BEGIN:VCALENDAR
VERSION:2.0
PRODID:-//Mobile Symphony Orchestra - ECPv6.15.16//NONSGML v1.0//EN
CALSCALE:GREGORIAN
METHOD:PUBLISH
X-WR-CALNAME:Mobile Symphony Orchestra
X-ORIGINAL-URL:https://mobilesymphony.org
X-WR-CALDESC:Events for Mobile Symphony Orchestra
REFRESH-INTERVAL;VALUE=DURATION:PT1H
X-Robots-Tag:noindex
X-PUBLISHED-TTL:PT1H
BEGIN:VTIMEZONE
TZID:America/Chicago
BEGIN:DAYLIGHT
TZOFFSETFROM:-0600
TZOFFSETTO:-0500
TZNAME:CDT
DTSTART:20190310T080000
END:DAYLIGHT
BEGIN:STANDARD
TZOFFSETFROM:-0500
TZOFFSETTO:-0600
TZNAME:CST
DTSTART:20191103T070000
END:STANDARD
BEGIN:DAYLIGHT
TZOFFSETFROM:-0600
TZOFFSETTO:-0500
TZNAME:CDT
DTSTART:20200308T080000
END:DAYLIGHT
BEGIN:STANDARD
TZOFFSETFROM:-0500
TZOFFSETTO:-0600
TZNAME:CST
DTSTART:20201101T070000
END:STANDARD
BEGIN:DAYLIGHT
TZOFFSETFROM:-0600
TZOFFSETTO:-0500
TZNAME:CDT
DTSTART:20210314T080000
END:DAYLIGHT
BEGIN:STANDARD
TZOFFSETFROM:-0500
TZOFFSETTO:-0600
TZNAME:CST
DTSTART:20211107T070000
END:STANDARD
END:VTIMEZONE
BEGIN:VEVENT
DTSTART;VALUE=DATE:20200307
DTEND;VALUE=DATE:20200309
DTSTAMP:20260419T075304
CREATED:20190613T153730Z
LAST-MODIFIED:20200210T200653Z
UID:5264-1583539200-1583711999@mobilesymphony.org
SUMMARY:Vivace
DESCRIPTION:“I think it’s my role as a musician to bring music to everyone.” Cellist Sujari Britt said these words at the age of 15\, and I couldn’t agree more. The Mobile Symphony\, Sujari and I want nothing more than for our music to touch you\, the city of Mobile\, and all of humanity. We hope this concert of Saint-Saens\, Prokofiev and Anna Clyne will do just that.” – Scott Speck\, Music Director \nThe Mobile Symphony salutes young talent and classical masterworks with Vivace! Young\, vibrant and exceptionally talented – cello prodigy Sujari Britt performed at the White House when she was 8 and was a hit on public radio’s From the Top at 10. Now she’s set to wow Mobile audiences as she joins the MSO for the Saint-Saens concerto. Sujari has been playing music since she was 2-years-old and has been playing cello since she was 4. She recently earned her bachelor’s of music in cello performance at the prestigious Manhattan School of Music. The concert includes Masquerade\, a recent work by Anna Clyne that is a perfect fit for Mobile’s Mardi Gras heritage\, and concludes with Prokofiev’s Symphony No. 5. \nSingle tickets on sale August 21\, 2019. Tickets are $15\, $20\, $33\, $45\, $65 and $80 and can be purchased online\, by phone at 251-432-2010\, or at the symphony box office\, 257 Dauphin Street. Tickets are not available at the Saenger box office. Student tickets are $10. Through the MSO Big Red Ticket program sponsored by Alabama Power\, students in grades K-12 can attend the Sunday performance free when accompanied by a paying adult. Student and Big Red Tickets must be purchased at the MSO box office or via phone. \nEnhance your concert experience with Take Note!  Join music experts and explore the world of classical music from an in-depth perspective. This informative pre-concert talk begins at 6:30 p.m. before Saturday classical performances and 1:30 p.m. before Sunday classical performances in Room 1927\, adjacent to the Saenger entrance on Joachim Street. \nMarch 7\, 2020 | 7:30pm-9:30pm\nMarch 8\, 2020 | 2:30pm-4:30pm\nScott Speck conductor\nSujari Britt cello \nProgram:\nClyne | Masquerade\nSaint-Saens | Cello Concerto\nProkofiev | Symphony No. 5 \nVivace Program Pages \nSponsored By:\nJoanna & Robert Cunningham\nThe Mary Josephine Larkins Foundation\nMedia Sponsor:
URL:https://mobilesymphony.org/event/vivace
LOCATION:Saenger Theatre\, 6 South Joachim Street\, Mobile\, AL\, 36602\, United States
CATEGORIES:Classics
ATTACH;FMTTYPE=image/png:https://mobilesymphony.org/wp-content/uploads/2019/06/Vivace_Icon_300x275.png
END:VEVENT
END:VCALENDAR